BEGIN:VCALENDAR
VERSION:2.0
PRODID:-//Ottawa Parenting Times Magazine - ECPv5.1.6//NONSGML v1.0//EN
CALSCALE:GREGORIAN
METHOD:PUBLISH
X-WR-CALNAME:Ottawa Parenting Times Magazine
X-ORIGINAL-URL:https://www.ottawaparentingtimes.ca
X-WR-CALDESC:Events for Ottawa Parenting Times Magazine
BEGIN:VTIMEZONE
TZID:UTC
BEGIN:STANDARD
TZOFFSETFROM:+0000
TZOFFSETTO:+0000
TZNAME:UTC
DTSTART:20160101T000000
END:STANDARD
END:VTIMEZONE
BEGIN:VEVENT
DTSTART;VALUE=DATE:20160329
DTEND;VALUE=DATE:20160404
DTSTAMP:20260422T191610
CREATED:20160222T154514Z
LAST-MODIFIED:20160222T154514Z
UID:7274-1459209600-1459727999@www.ottawaparentingtimes.ca
SUMMARY:2016 Maple SugarFest
DESCRIPTION:Held since 1987\, this popular family\nevent features maple syrup-themed activities\nfor all ages\, including guided tours of the\nMuseopark and the Sugar Shack\, maple taffy\ntasting\, a variety of works by different artists\,\nfarm animals\, sled dogs\, reptiles\, inflatable\nstructures\, public entertainers\, face painters\nand sleigh rides.\nWebsite: www.museoparc.ca
URL:https://www.ottawaparentingtimes.ca/event/2016-maple-sugarfest/
LOCATION:Richelieu Park\, Vanier\, Ottawa
END:VEVENT
END:VCALENDAR