BEGIN:VCALENDAR
VERSION:2.0
PRODID:-//Ottawa Parenting Times Magazine - ECPv5.1.6//NONSGML v1.0//EN
CALSCALE:GREGORIAN
METHOD:PUBLISH
X-WR-CALNAME:Ottawa Parenting Times Magazine
X-ORIGINAL-URL:https://www.ottawaparentingtimes.ca
X-WR-CALDESC:Events for Ottawa Parenting Times Magazine
BEGIN:VTIMEZONE
TZID:UTC
BEGIN:STANDARD
TZOFFSETFROM:+0000
TZOFFSETTO:+0000
TZNAME:UTC
DTSTART:20190101T000000
END:STANDARD
END:VTIMEZONE
BEGIN:VEVENT
DTSTART;TZID=UTC:20190303T080000
DTEND;TZID=UTC:20190303T170000
DTSTAMP:20260422T104028
CREATED:20190225T013134Z
LAST-MODIFIED:20190225T013134Z
UID:12304-1551600000-1551632400@www.ottawaparentingtimes.ca
SUMMARY:3-2-1 Lego! Family Craft Day - March 3\, 2019
DESCRIPTION:When: March 3\, 1:00 p.m. to 3 p.m.\nWhere: 2064 Huntley Road\, Stittsville\nWhat: Family Craft Day at the Gouldbourn Museum. Craft Day activities are geared to children ages 4-11. Adult accompaniment and registration is required. Cost is $4 per child. To register your child call 613-831-2393 or email register@goulbournmuseum.ca.\nWebsite: www.goulbournmuseum.ca/event/3-2-1-lego-family-craft-day
URL:https://www.ottawaparentingtimes.ca/event/3-2-1-lego-family-craft-day-march-3-2019/
LOCATION:Gouldbourn Museum\, 2064 Huntley Road\, Stittsville\, Ottawa\, ON\, K2S 1B8
END:VEVENT
END:VCALENDAR