BEGIN:VCALENDAR
VERSION:2.0
PRODID:-//Ottawa Parenting Times Magazine - ECPv5.1.6//NONSGML v1.0//EN
CALSCALE:GREGORIAN
METHOD:PUBLISH
X-WR-CALNAME:Ottawa Parenting Times Magazine
X-ORIGINAL-URL:https://www.ottawaparentingtimes.ca
X-WR-CALDESC:Events for Ottawa Parenting Times Magazine
BEGIN:VTIMEZONE
TZID:UTC
BEGIN:STANDARD
TZOFFSETFROM:+0000
TZOFFSETTO:+0000
TZNAME:UTC
DTSTART:20160101T000000
END:STANDARD
END:VTIMEZONE
BEGIN:VEVENT
DTSTART;VALUE=DATE:20160305
DTEND;VALUE=DATE:20160306
DTSTAMP:20260422T191528
CREATED:20160222T155136Z
LAST-MODIFIED:20160222T155244Z
UID:7278-1457136000-1457222399@www.ottawaparentingtimes.ca
SUMMARY:The Mom Conference Ottawa
DESCRIPTION:How To Become A Less Stressed And More Informed Mom In 1 Day Guaranteed! \n7 Presentations by Over 10 Professional Speakers! \nIt’s Continuing Education for Moms!\nA Day out of the house\, away from the kids\, to relax\, have fun\, learn and network.\nTicket Price Includes: \n\nFull admission to all the presentations\nFull admission to the vendor room/tradeshow\nTwo coffee/snack breaks\nLunch\nEntry to win over $4\,000 in door prizes\nA take home Swag bag worth over $200\n\nTicket price is ONLY $197.\nSpace is limited!
URL:https://www.ottawaparentingtimes.ca/event/7278/
END:VEVENT
END:VCALENDAR