BEGIN:VCALENDAR
VERSION:2.0
PRODID:-//Ottawa Parenting Times Magazine - ECPv5.1.6//NONSGML v1.0//EN
CALSCALE:GREGORIAN
METHOD:PUBLISH
X-WR-CALNAME:Ottawa Parenting Times Magazine
X-ORIGINAL-URL:https://www.ottawaparentingtimes.ca
X-WR-CALDESC:Events for Ottawa Parenting Times Magazine
BEGIN:VTIMEZONE
TZID:UTC
BEGIN:STANDARD
TZOFFSETFROM:+0000
TZOFFSETTO:+0000
TZNAME:UTC
DTSTART:20190101T000000
END:STANDARD
END:VTIMEZONE
BEGIN:VEVENT
DTSTART;VALUE=DATE:20191019
DTEND;VALUE=DATE:20191020
DTSTAMP:20260422T090046
CREATED:20190916T004322Z
LAST-MODIFIED:20190916T004322Z
UID:12709-1571443200-1571529599@www.ottawaparentingtimes.ca
SUMMARY:9runrun – City of Ottawa Emergency Services Run
DESCRIPTION:9runrun – City of Ottawa\nEmergency Services Run\nWhen: October 19\nWhere: 5870 Abbott Street East\,\nStittsville\nWhat: In its 10th year\, 9runrun combines\nchance to do a timed run alongside\nOttawa’s firefighters\, police and\nparamedics with a chance to support\nthese local heroes. The course features fall\nrunning on courses including parts of the\nTrans Canada Trail. Stay afterwards for the\nannual Chief’s Chili Cookoff and the free\nlunch for participants. Runners will receive\nT-shirts and a medal at the finish line.\nWebsite: 9runrun.ca
URL:https://www.ottawaparentingtimes.ca/event/9runrun-city-of-ottawa-emergency-services-run/
END:VEVENT
END:VCALENDAR