BEGIN:VCALENDAR
VERSION:2.0
PRODID:-//Ottawa Parenting Times Magazine - ECPv5.1.6//NONSGML v1.0//EN
CALSCALE:GREGORIAN
METHOD:PUBLISH
X-WR-CALNAME:Ottawa Parenting Times Magazine
X-ORIGINAL-URL:https://www.ottawaparentingtimes.ca
X-WR-CALDESC:Events for Ottawa Parenting Times Magazine
BEGIN:VTIMEZONE
TZID:UTC
BEGIN:STANDARD
TZOFFSETFROM:+0000
TZOFFSETTO:+0000
TZNAME:UTC
DTSTART:20150101T000000
END:STANDARD
END:VTIMEZONE
BEGIN:VEVENT
DTSTART;VALUE=DATE:20150702
DTEND;VALUE=DATE:20150816
DTSTAMP:20260422T211609
CREATED:20150703T145354Z
LAST-MODIFIED:20150703T145354Z
UID:6442-1435795200-1439683199@www.ottawaparentingtimes.ca
SUMMARY:A Company of Fools: The Comedy of Errors
DESCRIPTION:When two sets of identical twins\nseparated at birth are brought to the same\ntown by circumstance\, mistaken identities\nabound! Set against the backdrop of Ottawa\nparks\, this touring outdoor performance by\nprofessional Shakespeare company A Company\nof Fools will encourage the audience to partake\nin a Where’s Waldo-esque array of colour and\nhustle bustle\, challenging the notion of truly\nknowing one’s friend\, spouse\, neighbour and\nself. Full of slapstick\, word play\, romance and\nrhyme\, this rollicking comical romp is one of\nShakespeare’s most delightful works – fun for\nthe whole family!\nFees: By donation (pass the hat).\nSuggested donation $15.
URL:https://www.ottawaparentingtimes.ca/event/a-company-of-fools-the-comedy-of-errors/
LOCATION:Unnamed Venue\, 1547 Merivale Rd\, 4th floor\, Suite 430\, Ottawa\, Ontario\, Canada
END:VEVENT
END:VCALENDAR