BEGIN:VCALENDAR
VERSION:2.0
PRODID:-//Ottawa Parenting Times Magazine - ECPv5.1.6//NONSGML v1.0//EN
CALSCALE:GREGORIAN
METHOD:PUBLISH
X-WR-CALNAME:Ottawa Parenting Times Magazine
X-ORIGINAL-URL:https://www.ottawaparentingtimes.ca
X-WR-CALDESC:Events for Ottawa Parenting Times Magazine
BEGIN:VTIMEZONE
TZID:UTC
BEGIN:STANDARD
TZOFFSETFROM:+0000
TZOFFSETTO:+0000
TZNAME:UTC
DTSTART:20160101T000000
END:STANDARD
END:VTIMEZONE
BEGIN:VEVENT
DTSTART;VALUE=DATE:20161202
DTEND;VALUE=DATE:20170108
DTSTAMP:20260422T154919
CREATED:20161026T132858Z
LAST-MODIFIED:20161026T132858Z
UID:8270-1480636800-1483833599@www.ottawaparentingtimes.ca
SUMMARY:Alight at Night - Various Dates from Dec.2\, 2016 to Jan.7\, 2017
DESCRIPTION:Dec. 2 – Dec. 4 5pm – 9pm \n(Sat Dec. 3 from 4 until 10pm) \nDec. 8 – Dec. 11 5pm – 9pm \n(Sat Dec. 10 from 4 until 10 pm) \nDec. 15 – Dec. 18  5pm – 9pm \n(Sat Dec. 17 from 4 until 10 pm) \nDec. 22 – Dec. 23  5pm – 9pm \nDec. 26 – Jan 7 5pm – 9pm \n(Sat.\, Dec. 31 & Sat.\, Jan. 7 from 4pm until 10pm) \n \nBundle up for one of the region’s most cherished family traditions at the award-winning\, 16th annual\, Alight at night Festival.  \nStroll along and marvel at the one million lights twinkling from the heritage buildings\, trees\, and fences of Upper Canada Village. Visit with Santa in the majestic Victorian setting of Saint Nick’s Merry Mansion. Experience the enchantment of horse-drawn wagons and romantic carriage rides for two. Take a ride on the Ferris Wheel and Toy Train\, and explore the Mistletoe Maze. Enjoy festive dining\, shopping and holiday cheer as carollers sing in the season! \nAddress: Upper Canada Village \n13740 County Road 2\, Morrisburg\, ON K0C 1X0 \nWebsite: www.alightatnight.ca \nTel: 1-800-437-2233 or 613-542-7388  \nTwitter:@UpperCanadaVill \nFacebook:Upper Canada Village
URL:https://www.ottawaparentingtimes.ca/event/alight-night-various-dates-dec-2-2016-jan-7-2017/
LOCATION:Upper Canada Village\, Morrisburg\, ON\, K0C 1X0
END:VEVENT
END:VCALENDAR