BEGIN:VCALENDAR
VERSION:2.0
PRODID:-//Ottawa Parenting Times Magazine - ECPv5.1.6//NONSGML v1.0//EN
CALSCALE:GREGORIAN
METHOD:PUBLISH
X-WR-CALNAME:Ottawa Parenting Times Magazine
X-ORIGINAL-URL:https://www.ottawaparentingtimes.ca
X-WR-CALDESC:Events for Ottawa Parenting Times Magazine
BEGIN:VTIMEZONE
TZID:UTC
BEGIN:STANDARD
TZOFFSETFROM:+0000
TZOFFSETTO:+0000
TZNAME:UTC
DTSTART:20170101T000000
END:STANDARD
END:VTIMEZONE
BEGIN:VEVENT
DTSTART;VALUE=DATE:20170328
DTEND;VALUE=DATE:20170503
DTSTAMP:20260422T135052
CREATED:20170203T033140Z
LAST-MODIFIED:20170203T033140Z
UID:8611-1490659200-1493769599@www.ottawaparentingtimes.ca
SUMMARY:Anger Management ...especially for parents
DESCRIPTION:Anger Management …especially for parents \nAnger is a common experience for parents – no matter how much you love your children.  We’ll look at positive ways to express your anger and practical strategies to manage your children’s behaviour. \n Date: Tue. Mar. 28\, 2017 – Tue May 2\, 2017 » Every week on Tue  \nTimes: 6:30-8:30 p.m.  \nLocation: Family Services Ottawa \n312 Parkdale Avenue \nOttawa\, ON \nK1Y 4X5 \nProvided by: Family Services Ottawa   www.familyservicesottawa.org\nFees: $175.00 – Subsidies are available  \nContact: Intake  613-725-3601 ext. 207 
URL:https://www.ottawaparentingtimes.ca/event/anger-management-especially-parents/
LOCATION:Ottawa\, ON\, K1Y 4X5
END:VEVENT
END:VCALENDAR