BEGIN:VCALENDAR
VERSION:2.0
PRODID:-//Ottawa Parenting Times Magazine - ECPv5.1.6//NONSGML v1.0//EN
CALSCALE:GREGORIAN
METHOD:PUBLISH
X-WR-CALNAME:Ottawa Parenting Times Magazine
X-ORIGINAL-URL:https://www.ottawaparentingtimes.ca
X-WR-CALDESC:Events for Ottawa Parenting Times Magazine
BEGIN:VTIMEZONE
TZID:UTC
BEGIN:STANDARD
TZOFFSETFROM:+0000
TZOFFSETTO:+0000
TZNAME:UTC
DTSTART:20160101T000000
END:STANDARD
END:VTIMEZONE
BEGIN:VEVENT
DTSTART;VALUE=DATE:20160810
DTEND;VALUE=DATE:20160815
DTSTAMP:20260422T193928
CREATED:20160722T143642Z
LAST-MODIFIED:20160722T143642Z
UID:7913-1470787200-1471219199@www.ottawaparentingtimes.ca
SUMMARY:Asinabka Film & Media Arts Festival August 10 - 14\, 2016
DESCRIPTION:The 5th annual Asinabka Film & Media Arts Festival is excited to present the best contemporary Indigenous film\, art and music from Canada and around the world. The Festival takes place over five days at Victoria Island\, the Museum of Nature\, Gallery 101 and SAW Gallery from August 10-14\, 2016. \nThe Festival begins the evening of Wednesday\, August 10 at the Aboriginal Experiences native village on Victoria Island with a welcoming celebration of traditional Indigenous music\, dance and food. Filmmaker Adam Garnet Jones will be in attendance to screen his film on beautiful Victoria Island at sunset \nFor details about visit www.asinabkafestival.org.
URL:https://www.ottawaparentingtimes.ca/event/asinabka-film-media-arts-festival/
LOCATION:Ottawa\, Canada
END:VEVENT
END:VCALENDAR