BEGIN:VCALENDAR
VERSION:2.0
PRODID:-//Ottawa Parenting Times Magazine - ECPv5.1.6//NONSGML v1.0//EN
CALSCALE:GREGORIAN
METHOD:PUBLISH
X-WR-CALNAME:Ottawa Parenting Times Magazine
X-ORIGINAL-URL:https://www.ottawaparentingtimes.ca
X-WR-CALDESC:Events for Ottawa Parenting Times Magazine
BEGIN:VTIMEZONE
TZID:UTC
BEGIN:STANDARD
TZOFFSETFROM:+0000
TZOFFSETTO:+0000
TZNAME:UTC
DTSTART:20170101T000000
END:STANDARD
END:VTIMEZONE
BEGIN:VEVENT
DTSTART;VALUE=DATE:20170209
DTEND;VALUE=DATE:20170210
DTSTAMP:20260422T155215
CREATED:20170203T030940Z
LAST-MODIFIED:20170203T030940Z
UID:8570-1486598400-1486684799@www.ottawaparentingtimes.ca
SUMMARY:From Baby Food to Table Food
DESCRIPTION:From Baby Food to Table Food \nWondering how much food your older baby needs? What are some of the feeding challenges?  Looking for recipe ideas?  For parents with babies 10-18 months old.  Babies welcome. Register online at wocrc.ca \nDate: Tue Feb 9\, 2016 – Thu Feb 9\, 2017  \nTimes: 1:30-3:30  \nLocation: \n2 MacNeil Court\, \nKanata\, On \nProvided by: OEYC Carleton   www.wocrc.ca\nContact: 613-591-3686 x 5  
URL:https://www.ottawaparentingtimes.ca/event/baby-food-table-food/
LOCATION:Ottawa\, ON\, Canada
END:VEVENT
END:VCALENDAR