BEGIN:VCALENDAR
VERSION:2.0
PRODID:-//Ottawa Parenting Times Magazine - ECPv5.1.6//NONSGML v1.0//EN
CALSCALE:GREGORIAN
METHOD:PUBLISH
X-WR-CALNAME:Ottawa Parenting Times Magazine
X-ORIGINAL-URL:https://www.ottawaparentingtimes.ca
X-WR-CALDESC:Events for Ottawa Parenting Times Magazine
BEGIN:VTIMEZONE
TZID:UTC
BEGIN:STANDARD
TZOFFSETFROM:+0000
TZOFFSETTO:+0000
TZNAME:UTC
DTSTART:20180101T000000
END:STANDARD
END:VTIMEZONE
BEGIN:VEVENT
DTSTART;VALUE=DATE:20180707
DTEND;VALUE=DATE:20180708
DTSTAMP:20260422T083848
CREATED:20180508T152655Z
LAST-MODIFIED:20180508T152655Z
UID:11753-1530921600-1531007999@www.ottawaparentingtimes.ca
SUMMARY:Beau’s 5K for Ovarian Cancer Canada - July 7\, 2018
DESCRIPTION:Where: Beau’s All Natural Brewing\nCo.\, 10 Terry Fox Drive\, Vankleek Hill\nWhen: July 7\, 9 a.m. to 2 p.m.\nWhat: The fourth annual Beau’s 5K will\nsupport Ovarian Cancer Canada. Walkers and\nrunners\, prepare to lace up for a great cause\,\nrain or shine! Registration opens at 9 a.m.\,\nwith the 5K run beginning at 10 a.m. and the\n5K and 3K walks to start at 11 a.m.\nWebsite: www.noca.convio.net/site/\nTR?fr_id=1382&pg=entry
URL:https://www.ottawaparentingtimes.ca/event/beaus-5k-for-ovarian-cancer-canada-july-7-2018/
LOCATION:10 Terry Fox Drive\, Vankleek HIll\, Vankleek Hill\, ON
END:VEVENT
END:VCALENDAR