BEGIN:VCALENDAR
VERSION:2.0
PRODID:-//Ottawa Parenting Times Magazine - ECPv5.1.6//NONSGML v1.0//EN
CALSCALE:GREGORIAN
METHOD:PUBLISH
X-WR-CALNAME:Ottawa Parenting Times Magazine
X-ORIGINAL-URL:https://www.ottawaparentingtimes.ca
X-WR-CALDESC:Events for Ottawa Parenting Times Magazine
BEGIN:VTIMEZONE
TZID:UTC
BEGIN:STANDARD
TZOFFSETFROM:+0000
TZOFFSETTO:+0000
TZNAME:UTC
DTSTART:20190101T000000
END:STANDARD
END:VTIMEZONE
BEGIN:VEVENT
DTSTART;VALUE=DATE:20190706
DTEND;VALUE=DATE:20190707
DTSTAMP:20260422T090228
CREATED:20190625T173748Z
LAST-MODIFIED:20190625T173748Z
UID:12517-1562371200-1562457599@www.ottawaparentingtimes.ca
SUMMARY:Beau's 5K Race for Ovarian Cancer - July 6\, 2019
DESCRIPTION:When: July 6\, 9 a.m. to 2 p.m.\nWhere: Beau’s All-Natural Brewing\nCo.\, 10 Terry Fox Dr.\, Vankleek Hill\nWhat: The fifth annual Beau’s 5K\nwill support Ovarian Cancer Canada.\nWalkers and runners\, prepare to lace\nup for a great cause\, rain or shine!\nCheck-in opens at 9 a.m.\, with the\n5K and 10K runs beginning at 10 a.m.\nand the 5K and 3K walks also starting\nat 10 a.m. Kids must pay the $40 if\nthey are walking or running – babies\nin strollers can ride for free. The\ntotal money raised by the Beau’s 5K\nfor Ovarian Cancer Canada to date is\nmore than $115\,000.
URL:https://www.ottawaparentingtimes.ca/event/beaus-5k-race-for-ovarian-cancer-july-6-2019/
LOCATION:10 Terry Fox Drive\, Vankleek HIll\, Vankleek Hill\, ON
END:VEVENT
END:VCALENDAR