BEGIN:VCALENDAR
VERSION:2.0
PRODID:-//Ottawa Parenting Times Magazine - ECPv5.1.6//NONSGML v1.0//EN
CALSCALE:GREGORIAN
METHOD:PUBLISH
X-WR-CALNAME:Ottawa Parenting Times Magazine
X-ORIGINAL-URL:https://www.ottawaparentingtimes.ca
X-WR-CALDESC:Events for Ottawa Parenting Times Magazine
BEGIN:VTIMEZONE
TZID:UTC
BEGIN:STANDARD
TZOFFSETFROM:+0000
TZOFFSETTO:+0000
TZNAME:UTC
DTSTART:20150101T000000
END:STANDARD
END:VTIMEZONE
BEGIN:VEVENT
DTSTART;TZID=UTC:20150703T080000
DTEND;TZID=UTC:20150703T170000
DTSTAMP:20260422T211603
CREATED:20150703T192740Z
LAST-MODIFIED:20150703T192740Z
UID:6482-1435910400-1435942800@www.ottawaparentingtimes.ca
SUMMARY:Bishop Hamilton Montessori School Open Houses
DESCRIPTION:Excellence in education for children 3 months to 14 years. \nNEW Infant Program (3-18 months) Opening September 2015. \nOpen Houses every Wednesday at 9:30 a.m. \nContact: Jackie Lalumiere\, Admissions Director\, 613.596.4013 \n  \n 
URL:https://www.ottawaparentingtimes.ca/event/bishop-hamilton-montessori-school-open-houses/
LOCATION:Bishop Hamilton Montessori School\, 2199 Regency Terrace\, Ottawa
END:VEVENT
END:VCALENDAR