BEGIN:VCALENDAR
VERSION:2.0
PRODID:-//Ottawa Parenting Times Magazine - ECPv5.1.6//NONSGML v1.0//EN
CALSCALE:GREGORIAN
METHOD:PUBLISH
X-WR-CALNAME:Ottawa Parenting Times Magazine
X-ORIGINAL-URL:https://www.ottawaparentingtimes.ca
X-WR-CALDESC:Events for Ottawa Parenting Times Magazine
BEGIN:VTIMEZONE
TZID:UTC
BEGIN:STANDARD
TZOFFSETFROM:+0000
TZOFFSETTO:+0000
TZNAME:UTC
DTSTART:20180101T000000
END:STANDARD
END:VTIMEZONE
BEGIN:VEVENT
DTSTART;VALUE=DATE:20181012
DTEND;VALUE=DATE:20190821
DTSTAMP:20260422T103011
CREATED:20181012T154114Z
LAST-MODIFIED:20181012T154114Z
UID:12061-1539302400-1566345599@www.ottawaparentingtimes.ca
SUMMARY:Bishop Hamilton Montessori School - School Tours
DESCRIPTION:Bishop Hamilton Montessori School\nBHMS develops students with 21st century skills – to live in the real world. \nWe develop:\nACADEMIC PREPAREDNESS\nCONFIDENT CRITICAL THINKERS\nLEADERS\nCOLLABORATIVE WORKERS\nGLOBAL CITIZENS \n   Ottawa’s Only Christian Montessori School\nBishop Hamilton Montessori School\, a CCMA\naccredited\, not-for-profit school\, provides\na Christian Montessori approach since\n1983 with programs for children 3 months\nto 14 years.\n   For thirty-four years\, the School\nhas been delivering a high quality\nChristian education to its\nstudents in an enriched\, authentic\nMontessori learning environment.\nBHMS exists to provide children\nwith the best start possible\nfor a lifetime of learning. We\nare committed to maintaining\nthe quality and integrity of our\ngifted programs\, to enriching\nthe educational experience\nof our students\, and to\ncontinuously improving the\nsupport and services that\nwe provide to families. \nSchool tours are booked most Tuesdays.\nCall 613-596-4013 to book your tour.
URL:https://www.ottawaparentingtimes.ca/event/bishop-hamilton-montessori-school-school-tours/
END:VEVENT
END:VCALENDAR