BEGIN:VCALENDAR
VERSION:2.0
PRODID:-//Ottawa Parenting Times Magazine - ECPv5.1.6//NONSGML v1.0//EN
CALSCALE:GREGORIAN
METHOD:PUBLISH
X-WR-CALNAME:Ottawa Parenting Times Magazine
X-ORIGINAL-URL:https://www.ottawaparentingtimes.ca
X-WR-CALDESC:Events for Ottawa Parenting Times Magazine
BEGIN:VTIMEZONE
TZID:UTC
BEGIN:STANDARD
TZOFFSETFROM:+0000
TZOFFSETTO:+0000
TZNAME:UTC
DTSTART:20150101T000000
END:STANDARD
END:VTIMEZONE
BEGIN:VEVENT
DTSTART;TZID=UTC:20151024T100000
DTEND;TZID=UTC:20151024T120000
DTSTAMP:20260421T182728
CREATED:20150821T182946Z
LAST-MODIFIED:20150821T182946Z
UID:6525-1445680800-1445688000@www.ottawaparentingtimes.ca
SUMMARY:Blyth Academy Ottawa
DESCRIPTION:OPEN HOUSE: Oct. 24\, 10 am – 12 pm
URL:https://www.ottawaparentingtimes.ca/event/blyth-academy-ottawa/
LOCATION:Blyth Academy Ottawa\, 352 Danforth Ave.\, Ottawa
END:VEVENT
END:VCALENDAR