BEGIN:VCALENDAR
VERSION:2.0
PRODID:-//Ottawa Parenting Times Magazine - ECPv5.1.6//NONSGML v1.0//EN
CALSCALE:GREGORIAN
METHOD:PUBLISH
X-WR-CALNAME:Ottawa Parenting Times Magazine
X-ORIGINAL-URL:https://www.ottawaparentingtimes.ca
X-WR-CALDESC:Events for Ottawa Parenting Times Magazine
BEGIN:VTIMEZONE
TZID:UTC
BEGIN:STANDARD
TZOFFSETFROM:+0000
TZOFFSETTO:+0000
TZNAME:UTC
DTSTART:20180101T000000
END:STANDARD
END:VTIMEZONE
BEGIN:VEVENT
DTSTART;TZID=UTC:20180421T100000
DTEND;TZID=UTC:20180422T170000
DTSTAMP:20260422T120807
CREATED:20180126T172528Z
LAST-MODIFIED:20180126T172528Z
UID:11476-1524304800-1524416400@www.ottawaparentingtimes.ca
SUMMARY:Bob the Builder in Concert @ Ottawa Parent & Child Expo - April 21 & 22\, 2018
DESCRIPTION:What: Gather the kids and head to the\nNepean Sportsplex for a weekend of family\nfun and information at Ottawa’s largest\nparenting show. Parents will find 125 of \ntheir favourite Ottawa exhibitors offering\nimportant parenting information\, and kids\nwill find the beloved super hero characters\,\nLittle Ray’s Reptiles\, live music\, and more.\nKids can hug friendly mascots\, discover\nmagic\, play zones\, and many other activities\nthat focus on fun\, learning and being healthy\nand active\, including fitness demonstrations\,\nface painting\, arts and crafts\, a reading\ncorner and much more. An exciting family\nevent where you and your children can play\,\nlearn\, and explore\, with free parking. Check\nthe website regularly for more entertainment\nannouncements.\nwww.ParentandChildExpo.ca
URL:https://www.ottawaparentingtimes.ca/event/bob-builder-concert-ottawa-parent-child-expo-april-21-22-2018/
LOCATION:Nepean Sportsplex\, 1701 Woodroffe Ave.\, Ottawa\, Ontario
END:VEVENT
END:VCALENDAR