BEGIN:VCALENDAR
VERSION:2.0
PRODID:-//Ottawa Parenting Times Magazine - ECPv5.1.6//NONSGML v1.0//EN
CALSCALE:GREGORIAN
METHOD:PUBLISH
X-WR-CALNAME:Ottawa Parenting Times Magazine
X-ORIGINAL-URL:https://www.ottawaparentingtimes.ca
X-WR-CALDESC:Events for Ottawa Parenting Times Magazine
BEGIN:VTIMEZONE
TZID:UTC
BEGIN:STANDARD
TZOFFSETFROM:+0000
TZOFFSETTO:+0000
TZNAME:UTC
DTSTART:20170101T000000
END:STANDARD
END:VTIMEZONE
BEGIN:VEVENT
DTSTART;VALUE=DATE:20170222
DTEND;VALUE=DATE:20170223
DTSTAMP:20260422T160531
CREATED:20170203T034212Z
LAST-MODIFIED:20170203T034212Z
UID:8633-1487721600-1487807999@www.ottawaparentingtimes.ca
SUMMARY:Building Healthy Eating Habits: Loblaws in-store tour
DESCRIPTION:Building Healthy Eating Habits: Loblaws in-store tour \nBecome a skilled shopper and learn how to make better choices at the grocery store! Join a registered dietitian as she brings you on this interactive and fun tour where you will learn how to read food labels and make the best food choices for you and your family while at the same time trying some interesting products. Snacks and warm refreshments will be provided!  Children will also get the opportunity to participate in a fun activity. \n Date: Wed. Feb. 22\, 2017  \nTimes: 6:00 – 7:30 pm  \nLocation: Loblaws \n2210 Bank Street \nProvided by: Ontario Early Years Centre – Ottawa South  \nFees: Free – By registration only  \nContact: 613-737-6369
URL:https://www.ottawaparentingtimes.ca/event/building-healthy-eating-habits-loblaws-store-tour/
LOCATION:Ottawa\, ON
END:VEVENT
END:VCALENDAR