BEGIN:VCALENDAR
VERSION:2.0
PRODID:-//Ottawa Parenting Times Magazine - ECPv5.1.6//NONSGML v1.0//EN
CALSCALE:GREGORIAN
METHOD:PUBLISH
X-WR-CALNAME:Ottawa Parenting Times Magazine
X-ORIGINAL-URL:https://www.ottawaparentingtimes.ca
X-WR-CALDESC:Events for Ottawa Parenting Times Magazine
BEGIN:VTIMEZONE
TZID:UTC
BEGIN:STANDARD
TZOFFSETFROM:+0000
TZOFFSETTO:+0000
TZNAME:UTC
DTSTART:20170101T000000
END:STANDARD
END:VTIMEZONE
BEGIN:VEVENT
DTSTART;VALUE=DATE:20170425
DTEND;VALUE=DATE:20170517
DTSTAMP:20260422T135125
CREATED:20170203T033503Z
LAST-MODIFIED:20170203T033503Z
UID:8620-1493078400-1494979199@www.ottawaparentingtimes.ca
SUMMARY:Building Resilience in Young Children
DESCRIPTION:Building Resilience in Young Children \nResilience is the ability to steer through life challenges and find ways to bounce back and to thrive.  Children build their resilience when they are given opportunities to learn skills and participate in meaningful activities at home and in their community.  Practical tips for parents:  on simple messages about how to build resilience from infancy to age 8. \nDate: Tue Apr 25\, 2017 – Tue May 16\, 2017 » Every week on Tue \nTimes: 6:30 – 8:30 pm \nLocation: Centrepointe Early Childhood Resource Centre \n75 Hemmingwood Way\, Ottawa K2G 5T6 \nProvided by: Centrepointe Early Childhood Resource Centre   www.centrepointechildcareservices.com\nFees: Free  \nContact: Lisa  613-225-4819 
URL:https://www.ottawaparentingtimes.ca/event/building-resilience-young-children/
END:VEVENT
END:VCALENDAR