BEGIN:VCALENDAR
VERSION:2.0
PRODID:-//Ottawa Parenting Times Magazine - ECPv5.1.6//NONSGML v1.0//EN
CALSCALE:GREGORIAN
METHOD:PUBLISH
X-WR-CALNAME:Ottawa Parenting Times Magazine
X-ORIGINAL-URL:https://www.ottawaparentingtimes.ca
X-WR-CALDESC:Events for Ottawa Parenting Times Magazine
BEGIN:VTIMEZONE
TZID:UTC
BEGIN:STANDARD
TZOFFSETFROM:+0000
TZOFFSETTO:+0000
TZNAME:UTC
DTSTART:20180101T000000
END:STANDARD
END:VTIMEZONE
BEGIN:VEVENT
DTSTART;VALUE=DATE:20180508
DTEND;VALUE=DATE:20180901
DTSTAMP:20260422T120721
CREATED:20180508T153357Z
LAST-MODIFIED:20180508T153357Z
UID:11759-1525737600-1535759999@www.ottawaparentingtimes.ca
SUMMARY:Camp Nominingue: Quebec's English Boys Camp - Summer Camp Registration - Ongoing
DESCRIPTION:Camp Nominingue attracts campers from Quebec\, \nfrom Ontario\, from the rest of Canada and from around the world\, \nwho make Camp Nominingue their summer home! \nwww.nominingue.com
URL:https://www.ottawaparentingtimes.ca/event/camp-nominingue-quebecs-english-boys-camp-summer-camp-registration-ongoing/
LOCATION:Nominingue\, QC J0W 1R0\, Nominingue\, Quebec\, J0W 1R0
END:VEVENT
END:VCALENDAR