BEGIN:VCALENDAR
VERSION:2.0
PRODID:-//Ottawa Parenting Times Magazine - ECPv5.1.6//NONSGML v1.0//EN
CALSCALE:GREGORIAN
METHOD:PUBLISH
X-WR-CALNAME:Ottawa Parenting Times Magazine
X-ORIGINAL-URL:https://www.ottawaparentingtimes.ca
X-WR-CALDESC:Events for Ottawa Parenting Times Magazine
BEGIN:VTIMEZONE
TZID:UTC
BEGIN:STANDARD
TZOFFSETFROM:+0000
TZOFFSETTO:+0000
TZNAME:UTC
DTSTART:20180101T000000
END:STANDARD
END:VTIMEZONE
BEGIN:VEVENT
DTSTART;VALUE=DATE:20180701
DTEND;VALUE=DATE:20180702
DTSTAMP:20260422T103906
CREATED:20180504T133033Z
LAST-MODIFIED:20180504T133033Z
UID:11711-1530403200-1530489599@www.ottawaparentingtimes.ca
SUMMARY:Canada Day Road Races - July 1\, 2018
DESCRIPTION:Where: 100 Charlie Rogers Way\,\nKanata\nWhen: July 1\, 7:45 to 10 a.m.\nWhat: As a part of the Canada Day in Kanata\nfestivities\, the 32nd edition of the Canada\nDay Road Races will be held in support of\nthe Kanata Food Cupboard. The day features\na run for everyone\, including a 10K\, 5K\,\n1K Kids Run (ages 6-12) and a 100m Tot\nTrot for kids five and under. All runners\nreceive commemorative shirts\, medals and\npost-race snacks courtesy of the Kanata Food\nCupboard. After the races\, stay to enjoy the\nKids Zone\, midway and all sorts of attractions.\nWebsite: www.runottawa.ca
URL:https://www.ottawaparentingtimes.ca/event/canada-day-road-races-july-1-2018/
LOCATION:Kanata\, Ontario\, Ottawa\, Ontario\, Canada
END:VEVENT
END:VCALENDAR