BEGIN:VCALENDAR
VERSION:2.0
PRODID:-//Ottawa Parenting Times Magazine - ECPv5.1.6//NONSGML v1.0//EN
CALSCALE:GREGORIAN
METHOD:PUBLISH
X-WR-CALNAME:Ottawa Parenting Times Magazine
X-ORIGINAL-URL:https://www.ottawaparentingtimes.ca
X-WR-CALDESC:Events for Ottawa Parenting Times Magazine
BEGIN:VTIMEZONE
TZID:UTC
BEGIN:STANDARD
TZOFFSETFROM:+0000
TZOFFSETTO:+0000
TZNAME:UTC
DTSTART:20160101T000000
END:STANDARD
END:VTIMEZONE
BEGIN:VEVENT
DTSTART;VALUE=DATE:20161005
DTEND;VALUE=DATE:20161006
DTSTAMP:20260421T143842
CREATED:20160912T162318Z
LAST-MODIFIED:20160912T174532Z
UID:8066-1475625600-1475711999@www.ottawaparentingtimes.ca
SUMMARY:Canada’s Ballet Jörgen is looking for 12-15 student dancers - October 5\, 2016
DESCRIPTION:LOCAL STUDENT ROLES TO PERFORM in “SWAN LAKE” Canada’s Ballet Jörgen to Showcase Young Dancers in Full Production\, October 28\, Centrepointe Theatre\, Ottawa \nCanada’s Ballet Jörgen is looking for 12-15 student dancers to participate with the Company in their performance of Swan Lake. \nThe cast will be assembled from local area students\, based on an audition. The cast will rehearse with the Company for 1.5 hours the day before the show and then 2 to 3 hours prior to the performance. \nTheir roles will include – 18th Century Peasants and Children\, Ladies in Waiting\, Fortress Guards\, Court Pages and Ballroom Attendants.  The candidates need to learn the choreography quickly\, listen well\, follow directions and retain them easily. They must have good stage presence and carry themselves well. \nSwan Lake Auditions will take place on Wednesday\, October 5\, 2016 at the Nepean Creative Arts Centre from 3 pm to 6 pm.\n\n\n\n\n\n\n\n\n\nELIGIBILITY CRITERIA can be found at this link: \nhttp://www.balletjorgencanada.ca/index.cfm?id=43995 \nContact: Sleeping Beauty Local Participant Program Coordinator: \n416-415-5000 ext. 4928 or cbjeducation@balletjorgen.ca \n  \n 
URL:https://www.ottawaparentingtimes.ca/event/canadas-ballet-jorgen-looking-12-15-student-dancers-october-5-2016/
END:VEVENT
END:VCALENDAR