BEGIN:VCALENDAR
VERSION:2.0
PRODID:-//Ottawa Parenting Times Magazine - ECPv5.1.6//NONSGML v1.0//EN
CALSCALE:GREGORIAN
METHOD:PUBLISH
X-WR-CALNAME:Ottawa Parenting Times Magazine
X-ORIGINAL-URL:https://www.ottawaparentingtimes.ca
X-WR-CALDESC:Events for Ottawa Parenting Times Magazine
BEGIN:VTIMEZONE
TZID:UTC
BEGIN:STANDARD
TZOFFSETFROM:+0000
TZOFFSETTO:+0000
TZNAME:UTC
DTSTART:20220101T000000
END:STANDARD
END:VTIMEZONE
BEGIN:VEVENT
DTSTART;TZID=UTC:20220606T080000
DTEND;TZID=UTC:20220606T170000
DTSTAMP:20260422T085848
CREATED:20220606T155713Z
LAST-MODIFIED:20220606T155713Z
UID:13967-1654502400-1654534800@www.ottawaparentingtimes.ca
SUMMARY:CANADIAN CHILDREN'S MUSEUM - NOW OPEN!
DESCRIPTION:IT’S TIME TO PLAY AGAIN!\nKids and parents’ favourite museum is open. Travel to beloved destinations: a Mexican kitchen\, an open-air market\, and a cargo ship. Visit the family Studio and play in the Kid’s Café. \nTimed tickets must be booked in advance here.
URL:https://www.ottawaparentingtimes.ca/event/canadian-childrens-museum-now-open/
LOCATION:Canadian Children’s Museum inside Canadian Museum of History\, 100\, rue Laurier\, Gatineau\, Quebec\, Canada
END:VEVENT
END:VCALENDAR