BEGIN:VCALENDAR
VERSION:2.0
PRODID:-//Ottawa Parenting Times Magazine - ECPv5.1.6//NONSGML v1.0//EN
CALSCALE:GREGORIAN
METHOD:PUBLISH
X-WR-CALNAME:Ottawa Parenting Times Magazine
X-ORIGINAL-URL:https://www.ottawaparentingtimes.ca
X-WR-CALDESC:Events for Ottawa Parenting Times Magazine
BEGIN:VTIMEZONE
TZID:UTC
BEGIN:STANDARD
TZOFFSETFROM:+0000
TZOFFSETTO:+0000
TZNAME:UTC
DTSTART:20170101T000000
END:STANDARD
END:VTIMEZONE
BEGIN:VEVENT
DTSTART;VALUE=DATE:20170116
DTEND;VALUE=DATE:20170123
DTSTAMP:20260422T155245
CREATED:20161129T024227Z
LAST-MODIFIED:20161129T024227Z
UID:8322-1484524800-1485129599@www.ottawaparentingtimes.ca
SUMMARY:Canadian Tire National Skating Championships - Jan.16-22\, 2017
DESCRIPTION:When: Jan. 16-22\, 2017\nWhere: TD Place Arena\, 1015 Bank St.\nWhat: In the first sporting event in Ottawa’s\nyear-long celebration of Canada’s 150th\nbirthday\, skaters will compete in the men’s\,\nwomen’s\, pairs\, and ice dance disciplines\nin three levels: senior\, junior\, and novice.\nInteresting note: the very first Canadian Skating\nChampionships were held in 1914 in Ottawa.\nWebsite: www.skatecanada.ca
URL:https://www.ottawaparentingtimes.ca/event/canadian-tire-national-skating-championships-jan-16-22-2017/
END:VEVENT
END:VCALENDAR