BEGIN:VCALENDAR
VERSION:2.0
PRODID:-//Ottawa Parenting Times Magazine - ECPv5.1.6//NONSGML v1.0//EN
CALSCALE:GREGORIAN
METHOD:PUBLISH
X-WR-CALNAME:Ottawa Parenting Times Magazine
X-ORIGINAL-URL:https://www.ottawaparentingtimes.ca
X-WR-CALDESC:Events for Ottawa Parenting Times Magazine
BEGIN:VTIMEZONE
TZID:UTC
BEGIN:STANDARD
TZOFFSETFROM:+0000
TZOFFSETTO:+0000
TZNAME:UTC
DTSTART:20160101T000000
END:STANDARD
END:VTIMEZONE
BEGIN:VEVENT
DTSTART;VALUE=DATE:20160701
DTEND;VALUE=DATE:20160702
DTSTAMP:20260422T193922
CREATED:20160531T015851Z
LAST-MODIFIED:20160531T015851Z
UID:7583-1467331200-1467417599@www.ottawaparentingtimes.ca
SUMMARY:Celebrate Canada Day in the National Capital Region
DESCRIPTION:Celebrate Canada Day in the\nNational Capital Region\nWhen: July 1\, 2016\nWhere: Downtown Ottawa and Gatineau\nWhat: Grab the kids\, brave the crowds\, and\nenjoy Canada’s 149th birthday in the national\ncapital\, as the region resonates with pageantry\nand the sounds of celebration!\nWebsite: www.canadaday.gc.ca
URL:https://www.ottawaparentingtimes.ca/event/celebrate-canada-day-national-capital-region/
END:VEVENT
END:VCALENDAR