BEGIN:VCALENDAR
VERSION:2.0
PRODID:-//Ottawa Parenting Times Magazine - ECPv5.1.6//NONSGML v1.0//EN
CALSCALE:GREGORIAN
METHOD:PUBLISH
X-WR-CALNAME:Ottawa Parenting Times Magazine
X-ORIGINAL-URL:https://www.ottawaparentingtimes.ca
X-WR-CALDESC:Events for Ottawa Parenting Times Magazine
BEGIN:VTIMEZONE
TZID:UTC
BEGIN:STANDARD
TZOFFSETFROM:+0000
TZOFFSETTO:+0000
TZNAME:UTC
DTSTART:20160101T000000
END:STANDARD
END:VTIMEZONE
BEGIN:VEVENT
DTSTART;VALUE=DATE:20161203
DTEND;VALUE=DATE:20161204
DTSTAMP:20260422T155043
CREATED:20161126T205027Z
LAST-MODIFIED:20161126T205027Z
UID:8303-1480723200-1480809599@www.ottawaparentingtimes.ca
SUMMARY:Christmas Market - December 3\, 2016
DESCRIPTION:December 3\, 2016\n10:00 am to 3:00 pm\nPresented by:\nSt. James Anglican Church\, Manotick \n\n\nA wonderful selection of hand crafted gifts\, delicious home baking\, traditional Christmas puddings\, frozen dinner items and hors d’oeuvres for entertaining. Children can do their own shopping at “Tiny Town”\, where their gifts will be wrapped and tagged\, ready to put under the Christmas tree
URL:https://www.ottawaparentingtimes.ca/event/christmas-market-december-3-2016/
LOCATION:Manotick\, ON
END:VEVENT
END:VCALENDAR