BEGIN:VCALENDAR
VERSION:2.0
PRODID:-//Ottawa Parenting Times Magazine - ECPv5.1.6//NONSGML v1.0//EN
CALSCALE:GREGORIAN
METHOD:PUBLISH
X-WR-CALNAME:Ottawa Parenting Times Magazine
X-ORIGINAL-URL:https://www.ottawaparentingtimes.ca
X-WR-CALDESC:Events for Ottawa Parenting Times Magazine
BEGIN:VTIMEZONE
TZID:UTC
BEGIN:STANDARD
TZOFFSETFROM:+0000
TZOFFSETTO:+0000
TZNAME:UTC
DTSTART:20160101T000000
END:STANDARD
END:VTIMEZONE
BEGIN:VEVENT
DTSTART;VALUE=DATE:20160930
DTEND;VALUE=DATE:20161001
DTSTAMP:20260422T010845
CREATED:20160912T192721Z
LAST-MODIFIED:20160912T192721Z
UID:8088-1475193600-1475279999@www.ottawaparentingtimes.ca
SUMMARY:Clay Wheel Workshop - September 30\, 2016
DESCRIPTION:Clay Wheel \nEver wonder what it’s like to throw on the potter’s wheel?  Come alone or grab a friend and spend a fun afternoon learning how to center clay and make a couple of pots! Supplies provided. \nInstructor: Liz Hoffman \nFri. 1-4 pm \nSept. 30 $38.50 \nBar code: 1062270
URL:https://www.ottawaparentingtimes.ca/event/clay-wheel-workshop-september-30-2016/
END:VEVENT
END:VCALENDAR