BEGIN:VCALENDAR
VERSION:2.0
PRODID:-//Ottawa Parenting Times Magazine - ECPv5.1.6//NONSGML v1.0//EN
CALSCALE:GREGORIAN
METHOD:PUBLISH
X-WR-CALNAME:Ottawa Parenting Times Magazine
X-ORIGINAL-URL:https://www.ottawaparentingtimes.ca
X-WR-CALDESC:Events for Ottawa Parenting Times Magazine
BEGIN:VTIMEZONE
TZID:UTC
BEGIN:STANDARD
TZOFFSETFROM:+0000
TZOFFSETTO:+0000
TZNAME:UTC
DTSTART:20170101T000000
END:STANDARD
END:VTIMEZONE
BEGIN:VEVENT
DTSTART;VALUE=DATE:20170222
DTEND;VALUE=DATE:20170223
DTSTAMP:20260422T155022
CREATED:20170203T031658Z
LAST-MODIFIED:20170203T031658Z
UID:8589-1487721600-1487807999@www.ottawaparentingtimes.ca
SUMMARY:Creating a routine to help you through the day (for parents of children 1 to 6 years)
DESCRIPTION:Creating a routine to help you through the day (for parents of children 1 to 6 years) \nPredictable routines help children feel more secure… and help adults feel more in control of their day. But there isn’t one recipe that works for everyone. How can you plan a routine that will work for you? This workshop will set out some important factors to consider. You’ll also see how establishing a good routine can sometimes solve discipline problems. \nDate: Wed Feb 22\, 2017  \nTimes: 7:00-9:00 pm  \nLocation: OEYC Ottawa-Orléans \n240 Centrum Blvd. \nOrléans ON \nProvided by: Betsy Mann\, Certified Canadian Family Educator   www.crcoc.ca\nFees: free  \nContact: OEYC Ottawa-Orléans  613-830-4357 
URL:https://www.ottawaparentingtimes.ca/event/creating-routine-help-day-parents-children-1-6-years/
LOCATION:Ottawa\, ON
END:VEVENT
END:VCALENDAR