BEGIN:VCALENDAR
VERSION:2.0
PRODID:-//Ottawa Parenting Times Magazine - ECPv5.1.6//NONSGML v1.0//EN
CALSCALE:GREGORIAN
METHOD:PUBLISH
X-WR-CALNAME:Ottawa Parenting Times Magazine
X-ORIGINAL-URL:https://www.ottawaparentingtimes.ca
X-WR-CALDESC:Events for Ottawa Parenting Times Magazine
BEGIN:VTIMEZONE
TZID:UTC
BEGIN:STANDARD
TZOFFSETFROM:+0000
TZOFFSETTO:+0000
TZNAME:UTC
DTSTART:20170101T000000
END:STANDARD
END:VTIMEZONE
BEGIN:VEVENT
DTSTART;VALUE=DATE:20170316
DTEND;VALUE=DATE:20170317
DTSTAMP:20260422T135247
CREATED:20170208T164653Z
LAST-MODIFIED:20170208T164653Z
UID:8655-1489622400-1489708799@www.ottawaparentingtimes.ca
SUMMARY:DADA de L’Aubergine - March 26\, 2017
DESCRIPTION:When: March 16\, 2017\nWhere: Shenkman Arts Centre\, 245 Centrum Blvd.\nWhat: In this intriguing French-language\nperformance geared to families with children\nage five to 12 years\, Léopold Minute\, a\nwatchmaker by trade and a timid\, disciplined\nand precise man\, finds himself in a kind of\ndaydream and soon begins to express himself\nthrough dance\, juggling and acrobatics. *All\nchildren must have a ticket\, regardless of age.\nWebsite: shenkmanarts.ca
URL:https://www.ottawaparentingtimes.ca/event/dada-de-laubergine-march-26-2017/
LOCATION:Shenkman Arts Centre\, 245 Centrum Blvd.\, Ottawa\, ON
END:VEVENT
END:VCALENDAR