BEGIN:VCALENDAR
VERSION:2.0
PRODID:-//Ottawa Parenting Times Magazine - ECPv5.1.6//NONSGML v1.0//EN
CALSCALE:GREGORIAN
METHOD:PUBLISH
X-WR-CALNAME:Ottawa Parenting Times Magazine
X-ORIGINAL-URL:https://www.ottawaparentingtimes.ca
X-WR-CALDESC:Events for Ottawa Parenting Times Magazine
BEGIN:VTIMEZONE
TZID:UTC
BEGIN:STANDARD
TZOFFSETFROM:+0000
TZOFFSETTO:+0000
TZNAME:UTC
DTSTART:20170101T000000
END:STANDARD
END:VTIMEZONE
BEGIN:VEVENT
DTSTART;VALUE=DATE:20170213
DTEND;VALUE=DATE:20170214
DTSTAMP:20260422T154852
CREATED:20170203T032555Z
LAST-MODIFIED:20170203T032847Z
UID:8607-1486944000-1487030399@www.ottawaparentingtimes.ca
SUMMARY:Easy Preschool Math 1
DESCRIPTION:Easy Preschool Math 1 \nCome join us for some fun with preschool math!  Before going to kindergarten parents and caregivers can easily introduce math concepts to their children using activities in everyday life.  Let us show you where the math is!  \nLocation:  Bayshore drop-in site\, 210 Woodridge Cres.\, Ring 101. \nFor parents of children aged 2 ½ to 4 years of age \nDate: Mon. Mar\, 13\, 2017  \nTimes: 1:30 – 3:00 pm  \nLocation: Bayshore Drop-in Site \n210 Woodridge Crescent\, Ottawa \nProvided by: Ottawa West EYC   http://www.pqchc.com/children-family-services/parent-caregiver-calendar/\nFees: Free  
URL:https://www.ottawaparentingtimes.ca/event/easy-preschool-math-1/
END:VEVENT
END:VCALENDAR