BEGIN:VCALENDAR
VERSION:2.0
PRODID:-//Ottawa Parenting Times Magazine - ECPv5.1.6//NONSGML v1.0//EN
CALSCALE:GREGORIAN
METHOD:PUBLISH
X-WR-CALNAME:Ottawa Parenting Times Magazine
X-ORIGINAL-URL:https://www.ottawaparentingtimes.ca
X-WR-CALDESC:Events for Ottawa Parenting Times Magazine
BEGIN:VTIMEZONE
TZID:UTC
BEGIN:STANDARD
TZOFFSETFROM:+0000
TZOFFSETTO:+0000
TZNAME:UTC
DTSTART:20170101T000000
END:STANDARD
END:VTIMEZONE
BEGIN:VEVENT
DTSTART;VALUE=DATE:20170308
DTEND;VALUE=DATE:20170309
DTSTAMP:20260422T155100
CREATED:20170203T032338Z
LAST-MODIFIED:20170203T032441Z
UID:8604-1488931200-1489017599@www.ottawaparentingtimes.ca
SUMMARY:Emotional and Social Skills for School Readiness
DESCRIPTION:Emotional and Social Skills for School Readiness \nBeing ready for school means more than children knowing letters and numbers.  When children can deal with strong emotions and get along with others\, they are more open to learning.  In this workshop\, you will learn about typical emotional and social development.  You will discover age-appropriate ways to build your child’s skills through play.  For parents of children starting kindergarten in September 2017. \nDate: Wed Mar 8\, 2017  \nTimes: 6:30 – 8:30 pm  \nLocation: Pinecrest Queensway Community Health Centre \n1365 Richmond Road\, Ottawa \nProvided by: Ottawa West EYC   http://www.pqchc.com/children-family-services/parent-caregiver-calendar/\nFees: Free  
URL:https://www.ottawaparentingtimes.ca/event/emotional-social-skills-school-readiness/
LOCATION:Ottawa\, ON
END:VEVENT
END:VCALENDAR