BEGIN:VCALENDAR
VERSION:2.0
PRODID:-//Ottawa Parenting Times Magazine - ECPv5.1.6//NONSGML v1.0//EN
CALSCALE:GREGORIAN
METHOD:PUBLISH
X-WR-CALNAME:Ottawa Parenting Times Magazine
X-ORIGINAL-URL:https://www.ottawaparentingtimes.ca
X-WR-CALDESC:Events for Ottawa Parenting Times Magazine
BEGIN:VTIMEZONE
TZID:UTC
BEGIN:STANDARD
TZOFFSETFROM:+0000
TZOFFSETTO:+0000
TZNAME:UTC
DTSTART:20150101T000000
END:STANDARD
END:VTIMEZONE
BEGIN:VEVENT
DTSTART;VALUE=DATE:20151203
DTEND;VALUE=DATE:20160418
DTSTAMP:20260422T091655
CREATED:20151202T181914Z
LAST-MODIFIED:20151202T181914Z
UID:6936-1449100800-1460937599@www.ottawaparentingtimes.ca
SUMMARY:Exhibit: Vikings
DESCRIPTION:This myth-busting exhibition lays waste\nto the one-dimensional stereotype of bearded\nbarbarians with horns on their helmets\,\nfeaturing a rich array of engaging interactive\ndisplays and 500 outstanding artifacts from\nThe Swedish History Museum\, some rarely\ndisplayed outside their homeland.
URL:https://www.ottawaparentingtimes.ca/event/exhibit-vikings/
LOCATION:Canadian Museum of History\, Gatineau\, Quebec
END:VEVENT
END:VCALENDAR