BEGIN:VCALENDAR
VERSION:2.0
PRODID:-//Ottawa Parenting Times Magazine - ECPv5.1.6//NONSGML v1.0//EN
CALSCALE:GREGORIAN
METHOD:PUBLISH
X-WR-CALNAME:Ottawa Parenting Times Magazine
X-ORIGINAL-URL:https://www.ottawaparentingtimes.ca
X-WR-CALDESC:Events for Ottawa Parenting Times Magazine
BEGIN:VTIMEZONE
TZID:UTC
BEGIN:STANDARD
TZOFFSETFROM:+0000
TZOFFSETTO:+0000
TZNAME:UTC
DTSTART:20150101T000000
END:STANDARD
END:VTIMEZONE
BEGIN:VEVENT
DTSTART;TZID=UTC:20151123T010000
DTEND;TZID=UTC:20151123T150000
DTSTAMP:20260422T050955
CREATED:20150821T182257Z
LAST-MODIFIED:20150821T182257Z
UID:6519-1448240400-1448290800@www.ottawaparentingtimes.ca
SUMMARY:Exploring Sleep Options
DESCRIPTION:Exploring sleep options for parents and\nbabies in their first year. Are your baby’s\nsleep patterns not working for your family?\nLearn ways of coping and strategies for\nchanging your baby’s sleep habits. For\nparents with babies up to 12 months old.
URL:https://www.ottawaparentingtimes.ca/event/exploring-sleep-options/
LOCATION:Katimavik Preschool Resource Centre\, 180 Katimavik Rd\, Ottawa
END:VEVENT
END:VCALENDAR