BEGIN:VCALENDAR
VERSION:2.0
PRODID:-//Ottawa Parenting Times Magazine - ECPv5.1.6//NONSGML v1.0//EN
CALSCALE:GREGORIAN
METHOD:PUBLISH
X-WR-CALNAME:Ottawa Parenting Times Magazine
X-ORIGINAL-URL:https://www.ottawaparentingtimes.ca
X-WR-CALDESC:Events for Ottawa Parenting Times Magazine
BEGIN:VTIMEZONE
TZID:UTC
BEGIN:STANDARD
TZOFFSETFROM:+0000
TZOFFSETTO:+0000
TZNAME:UTC
DTSTART:20160101T000000
END:STANDARD
END:VTIMEZONE
BEGIN:VEVENT
DTSTART;VALUE=DATE:20161001
DTEND;VALUE=DATE:20161017
DTSTAMP:20260421T211317
CREATED:20160818T222412Z
LAST-MODIFIED:20160818T222412Z
UID:7979-1475280000-1476662399@www.ottawaparentingtimes.ca
SUMMARY:Fall Rhapsody in Gatineau Park - October 1 - 16\, 2016
DESCRIPTION:When: Oct. 1 to 16\, 2016\nWhere: Gatineau Park\, Que.\nWhat: Take in the breathtaking fall colours\nduring three weekends of special family\nactivities taking place at four different\nlocations. The kids can enjoy a taste of\nfarm-fresh products\, see animal demonstrations\,\nadmire the works of talented local\nartisans\, and enjoy a picnic amid the outdoor\nbeauty\, as well as learn why leaves change\ncolour in the fall.\nWebsite: www.ncc-ccn.gc.ca/places-to-visit/\ngatineau-park/fall-rhapsody
URL:https://www.ottawaparentingtimes.ca/event/fall-rhapsody-gatineau-park-october-1-16-2016/
END:VEVENT
END:VCALENDAR