BEGIN:VCALENDAR
VERSION:2.0
PRODID:-//Ottawa Parenting Times Magazine - ECPv5.1.6//NONSGML v1.0//EN
CALSCALE:GREGORIAN
METHOD:PUBLISH
X-WR-CALNAME:Ottawa Parenting Times Magazine
X-ORIGINAL-URL:https://www.ottawaparentingtimes.ca
X-WR-CALDESC:Events for Ottawa Parenting Times Magazine
BEGIN:VTIMEZONE
TZID:UTC
BEGIN:STANDARD
TZOFFSETFROM:+0000
TZOFFSETTO:+0000
TZNAME:UTC
DTSTART:20200101T000000
END:STANDARD
END:VTIMEZONE
BEGIN:VEVENT
DTSTART;VALUE=DATE:20200101
DTEND;VALUE=DATE:20200102
DTSTAMP:20260422T090352
CREATED:20191123T173116Z
LAST-MODIFIED:20191123T173555Z
UID:12769-1577836800-1577923199@www.ottawaparentingtimes.ca
SUMMARY:Family Fun: New Year’s Party - January 1\, 2020 @ The Canadian Museum of History
DESCRIPTION:Family Fun: New Year’s Party \nExplore musical traditions from around the world. Kick off the New Year with a bounce in your step and a song in your heart!\nGo big in 2020 with music\, games\, and dance. \nBig bang\, big games\, big fun! There’s nothing like music to ring in a brand-new year. Celebrate the start of 2020 in our Grand Hall with performances of the musical The Beginnings of Bing Bang by Jeunesse Musicales Canada\, featuring percussionists Marton Maderspach and Bruno Roy. Play dominoes and bowl with gigantic game pieces. Get hands-on with percussion instruments from around the world\, and make your own maracas to take home.\nPerformance: 2 p.m. (in English)\, 12 p.m. (in French)
URL:https://www.ottawaparentingtimes.ca/event/family-fun-new-years-party-january-1-2020-the-canadian-museum-of-history/
LOCATION:Canadian Children’s Museum inside Canadian Museum of History\, 100\, rue Laurier\, Gatineau\, Quebec\, Canada
END:VEVENT
END:VCALENDAR