BEGIN:VCALENDAR
VERSION:2.0
PRODID:-//Ottawa Parenting Times Magazine - ECPv5.1.6//NONSGML v1.0//EN
CALSCALE:GREGORIAN
METHOD:PUBLISH
X-WR-CALNAME:Ottawa Parenting Times Magazine
X-ORIGINAL-URL:https://www.ottawaparentingtimes.ca
X-WR-CALDESC:Events for Ottawa Parenting Times Magazine
BEGIN:VTIMEZONE
TZID:UTC
BEGIN:STANDARD
TZOFFSETFROM:+0000
TZOFFSETTO:+0000
TZNAME:UTC
DTSTART:20160101T000000
END:STANDARD
END:VTIMEZONE
BEGIN:VEVENT
DTSTART;VALUE=DATE:20160622
DTEND;VALUE=DATE:20160623
DTSTAMP:20260422T193754
CREATED:20160531T021849Z
LAST-MODIFIED:20160531T021849Z
UID:7596-1466553600-1466639999@www.ottawaparentingtimes.ca
SUMMARY:Family Yoga
DESCRIPTION:Family yoga combines basic yoga postures\,\nmusic\, and movement to energize\, strengthen\nand calm our bodies and minds. This workshop\ncelebrates the many benefits of yoga and\nmusic\, while encouraging creative play and\nindividual expression between parent and\nchild. Guaranteed to inspire big smiles and\nhealthy bodies! For children ages two to\nfour years. Cet atelier est offert en anglais\nseulement. Registration is April 6 at 9:30 a.m.\nby telephone: 613-728-1839 ext. 248.\nDate: Wednesday\, June 22\nTimes: 9:30 a.m. to 10:30 a.m.\nLocation: Mothercraft Ottawa\, 475 Evered Ave.\nProvided by: Courtney Holmes\,\nwww.mothercraft.com\nFees: Free\nContact: Cathy Cadieux: 613-728-1839 ext. 248
URL:https://www.ottawaparentingtimes.ca/event/family-yoga/
END:VEVENT
END:VCALENDAR