BEGIN:VCALENDAR
VERSION:2.0
PRODID:-//Ottawa Parenting Times Magazine - ECPv5.1.6//NONSGML v1.0//EN
CALSCALE:GREGORIAN
METHOD:PUBLISH
X-WR-CALNAME:Ottawa Parenting Times Magazine
X-ORIGINAL-URL:https://www.ottawaparentingtimes.ca
X-WR-CALDESC:Events for Ottawa Parenting Times Magazine
BEGIN:VTIMEZONE
TZID:UTC
BEGIN:STANDARD
TZOFFSETFROM:+0000
TZOFFSETTO:+0000
TZNAME:UTC
DTSTART:20160101T000000
END:STANDARD
END:VTIMEZONE
BEGIN:VEVENT
DTSTART;VALUE=DATE:20160616
DTEND;VALUE=DATE:20160619
DTSTAMP:20260422T193014
CREATED:20160530T171016Z
LAST-MODIFIED:20160530T171016Z
UID:7577-1466035200-1466294399@www.ottawaparentingtimes.ca
SUMMARY:Franco-Ontarian Festival
DESCRIPTION:When: June 16-18\, 2016\nWhere: Major’s Hill Park\nWhat: Bring the family to take in concerts\,\nstreet art and a variety of entertainment\nduring this huge celebration of Franco\nOntarian culture\, including creative activities\,\ninflatable structures\, face painting\, buskers\nand more.\nWebsite: www.ffo.ca
URL:https://www.ottawaparentingtimes.ca/event/franco-ontarian-festival/
END:VEVENT
END:VCALENDAR