BEGIN:VCALENDAR
VERSION:2.0
PRODID:-//Ottawa Parenting Times Magazine - ECPv5.1.6//NONSGML v1.0//EN
CALSCALE:GREGORIAN
METHOD:PUBLISH
X-WR-CALNAME:Ottawa Parenting Times Magazine
X-ORIGINAL-URL:https://www.ottawaparentingtimes.ca
X-WR-CALDESC:Events for Ottawa Parenting Times Magazine
BEGIN:VTIMEZONE
TZID:UTC
BEGIN:STANDARD
TZOFFSETFROM:+0000
TZOFFSETTO:+0000
TZNAME:UTC
DTSTART:20170101T000000
END:STANDARD
END:VTIMEZONE
BEGIN:VEVENT
DTSTART;VALUE=DATE:20170831
DTEND;VALUE=DATE:20170905
DTSTAMP:20260422T135344
CREATED:20170812T160952Z
LAST-MODIFIED:20170812T160952Z
UID:10980-1504137600-1504569599@www.ottawaparentingtimes.ca
SUMMARY:Gatineau Hot Air Balloon Festival - August 31 - September 4\, 2017
DESCRIPTION:When: Aug. 31-Sept. 4\, 2017\nWhere: La Baie Park\, Gatineau\, Que.\nWhat: Enjoy tons of fantastic activities for\nfamilies at the parc de la Baie site! Hop into\nthe zone with five inflatable play structures\,\nsample the universe of the Gatineau\nPlayground Festival\, and visit the Repti-Zone\,\nwhere you’ll find snakes\, lizards\, scorpions\,\ntarantulas\, turtles\, frogs … even an alligator!\nKids and adults can test their balance on a\nclimbing wall or on slacklines. With free face\npainting\, and much more.\nWebsite: www.montgolfieresgatineau.com
URL:https://www.ottawaparentingtimes.ca/event/gatineau-hot-air-balloon-festival-august-31-september-4-2017/
LOCATION:La Baie ParK\, Gatineau\, Gatineau\, Quebec
END:VEVENT
END:VCALENDAR