BEGIN:VCALENDAR
VERSION:2.0
PRODID:-//Ottawa Parenting Times Magazine - ECPv5.1.6//NONSGML v1.0//EN
CALSCALE:GREGORIAN
METHOD:PUBLISH
X-WR-CALNAME:Ottawa Parenting Times Magazine
X-ORIGINAL-URL:https://www.ottawaparentingtimes.ca
X-WR-CALDESC:Events for Ottawa Parenting Times Magazine
BEGIN:VTIMEZONE
TZID:UTC
BEGIN:STANDARD
TZOFFSETFROM:+0000
TZOFFSETTO:+0000
TZNAME:UTC
DTSTART:20160101T000000
END:STANDARD
END:VTIMEZONE
BEGIN:VEVENT
DTSTART;VALUE=DATE:20160703
DTEND;VALUE=DATE:20160704
DTSTAMP:20260422T193541
CREATED:20160531T020144Z
LAST-MODIFIED:20160531T020144Z
UID:7585-1467504000-1467590399@www.ottawaparentingtimes.ca
SUMMARY:Gourmet Fest
DESCRIPTION:Where: Rockland\, Ont.\nWhat: Celebrate local produce by enjoying\nculinary demonstrations\, musical performances\,\ntastings\, kids’ workshops and much more!\nWebsite: www.foiregourmande.com
URL:https://www.ottawaparentingtimes.ca/event/gourmet-fest/
END:VEVENT
END:VCALENDAR