BEGIN:VCALENDAR
VERSION:2.0
PRODID:-//Ottawa Parenting Times Magazine - ECPv5.1.6//NONSGML v1.0//EN
CALSCALE:GREGORIAN
METHOD:PUBLISH
X-WR-CALNAME:Ottawa Parenting Times Magazine
X-ORIGINAL-URL:https://www.ottawaparentingtimes.ca
X-WR-CALDESC:Events for Ottawa Parenting Times Magazine
BEGIN:VTIMEZONE
TZID:UTC
BEGIN:STANDARD
TZOFFSETFROM:+0000
TZOFFSETTO:+0000
TZNAME:UTC
DTSTART:20170101T000000
END:STANDARD
END:VTIMEZONE
BEGIN:VEVENT
DTSTART;VALUE=DATE:20171125
DTEND;VALUE=DATE:20171126
DTSTAMP:20260422T121822
CREATED:20171006T145209Z
LAST-MODIFIED:20171006T145209Z
UID:11239-1511568000-1511654399@www.ottawaparentingtimes.ca
SUMMARY:GUESS HOW MUCH I LOVE YOU AND I LOVE MY LITTLE STORYBOOK - November 25\, 2017
DESCRIPTION:   Mark Saturday\, Nov. 25 in your calendar for a relaxing\nfamily day at Shenkman Arts Centre. Start your day\nwith a bit of holiday shopping at Baz’Art\, a holiday arts\nmarket full of unique and local artists. Then snuggle\nup with your little ones and take in a performance of\na childhood literary favourite\, followed by pizza in the\nlobby.\n   Mermaid Theatre’s production of Guess How Much I Love\nYou and I Love My Little Storybook will be a highlight\nof the year for Ottawa families. Parents and children have\nenjoyed these delightful and touching books for years.\nAnd now\, they’re being brought to life by the acclaimed\nMermaid Theatre. \n 
URL:https://www.ottawaparentingtimes.ca/event/guess-much-love-love-little-storybook-november-25-2017/
END:VEVENT
END:VCALENDAR