BEGIN:VCALENDAR
VERSION:2.0
PRODID:-//Ottawa Parenting Times Magazine - ECPv5.1.6//NONSGML v1.0//EN
CALSCALE:GREGORIAN
METHOD:PUBLISH
X-WR-CALNAME:Ottawa Parenting Times Magazine
X-ORIGINAL-URL:https://www.ottawaparentingtimes.ca
X-WR-CALDESC:Events for Ottawa Parenting Times Magazine
BEGIN:VTIMEZONE
TZID:UTC
BEGIN:STANDARD
TZOFFSETFROM:+0000
TZOFFSETTO:+0000
TZNAME:UTC
DTSTART:20170101T000000
END:STANDARD
END:VTIMEZONE
BEGIN:VEVENT
DTSTART;VALUE=DATE:20170907
DTEND;VALUE=DATE:20180110
DTSTAMP:20260422T120722
CREATED:20171006T143855Z
LAST-MODIFIED:20171006T143855Z
UID:11231-1504742400-1515542399@www.ottawaparentingtimes.ca
SUMMARY:Hot Wheels™ – Race to Win™ - September 9\, 2017 - Janaury 9\, 2018
DESCRIPTION:Speed\, power\, performance… buckle up and race with the most famous toy vehicles on the planet — Hot Wheels®! Be part of a dynamic race team working together to build and test the world’s fastest (and safest) speed machines\, using Hot Wheels die-cast cars to experiment and play. This behind-the-scenes look at the thrilling world of racing investigates the scientific process for designing super-fast cars. Hands-on experiences\, authentic race gear and captivating memorabilia will engage families in the process of experimenting with speed\, power and performance using Hot Wheels cars and track as their tools. \nProduced by The Children’s Museum of Indianapolis and Mattel. HOT WHEELS and associated trademarks and trade dress are owned by\, and used under license from\, Mattel. ©2017 Mattel. All Rights Reserved.
URL:https://www.ottawaparentingtimes.ca/event/hot-wheels-race-win-september-9-2017-janaury-9-2018/
LOCATION:Canadian Children’s Museum inside Canadian Museum of History\, 100\, rue Laurier\, Gatineau\, Quebec\, Canada
END:VEVENT
END:VCALENDAR