BEGIN:VCALENDAR
VERSION:2.0
PRODID:-//Ottawa Parenting Times Magazine - ECPv5.1.6//NONSGML v1.0//EN
CALSCALE:GREGORIAN
METHOD:PUBLISH
X-WR-CALNAME:Ottawa Parenting Times Magazine
X-ORIGINAL-URL:https://www.ottawaparentingtimes.ca
X-WR-CALDESC:Events for Ottawa Parenting Times Magazine
BEGIN:VTIMEZONE
TZID:UTC
BEGIN:STANDARD
TZOFFSETFROM:+0000
TZOFFSETTO:+0000
TZNAME:UTC
DTSTART:20170101T000000
END:STANDARD
END:VTIMEZONE
BEGIN:VEVENT
DTSTART;VALUE=DATE:20170827
DTEND;VALUE=DATE:20170828
DTSTAMP:20260422T135114
CREATED:20170724T185109Z
LAST-MODIFIED:20170724T185109Z
UID:10973-1503792000-1503878399@www.ottawaparentingtimes.ca
SUMMARY:Ignite 150 - Canada’s Table – August 27\, 2017 - SOLD OUT
DESCRIPTION:“Ignite 150 is a series of 17 epic stunts and happenings that will turbo-charge every corner of the capital in 2017. These experiences will be no less than ephemeral\, spectacular\, innovative\, breathtaking\, and unforgettable\, while taking place in surprising and unusual locations across Ottawa. Key elements of the programming will be revealed a few days before the event via the Ottawa 2017 app”.”
URL:https://www.ottawaparentingtimes.ca/event/ignite-150-canadas-table-august-27-2017-sold/
END:VEVENT
END:VCALENDAR