BEGIN:VCALENDAR
VERSION:2.0
PRODID:-//Ottawa Parenting Times Magazine - ECPv5.1.6//NONSGML v1.0//EN
CALSCALE:GREGORIAN
METHOD:PUBLISH
X-WR-CALNAME:Ottawa Parenting Times Magazine
X-ORIGINAL-URL:https://www.ottawaparentingtimes.ca
X-WR-CALDESC:Events for Ottawa Parenting Times Magazine
BEGIN:VTIMEZONE
TZID:UTC
BEGIN:STANDARD
TZOFFSETFROM:+0000
TZOFFSETTO:+0000
TZNAME:UTC
DTSTART:20170101T000000
END:STANDARD
END:VTIMEZONE
BEGIN:VEVENT
DTSTART;VALUE=DATE:20170311
DTEND;VALUE=DATE:20170326
DTSTAMP:20260422T134948
CREATED:20170203T034403Z
LAST-MODIFIED:20170203T034403Z
UID:8636-1489190400-1490486399@www.ottawaparentingtimes.ca
SUMMARY:Infant Massage
DESCRIPTION:Infant Massage \nThis 3 session workshop will allow parents to learn how to massage their baby which will help improve sleep\, bonding\, development and more. Registration is Wednesday\, January 4th at 9:30 am by telephone only. \nDate: Sat Mar 11\, 2017 – Sat Mar 25\, 2017  \nTimes: 10:00 to 11:00  \nLocation: Mothercraft Ottawa \n475 Evered Avenue \nProvided by: Cyndy Gervais-Hiscox   www.mothercraft.com\nFees: Free  \nContact: Cathy Cadieux  613-728-1839 ext. 248 
URL:https://www.ottawaparentingtimes.ca/event/infant-massage/
LOCATION:Ottawa\, ON
END:VEVENT
END:VCALENDAR