BEGIN:VCALENDAR
VERSION:2.0
PRODID:-//Ottawa Parenting Times Magazine - ECPv5.1.6//NONSGML v1.0//EN
CALSCALE:GREGORIAN
METHOD:PUBLISH
X-WR-CALNAME:Ottawa Parenting Times Magazine
X-ORIGINAL-URL:https://www.ottawaparentingtimes.ca
X-WR-CALDESC:Events for Ottawa Parenting Times Magazine
BEGIN:VTIMEZONE
TZID:UTC
BEGIN:STANDARD
TZOFFSETFROM:+0000
TZOFFSETTO:+0000
TZNAME:UTC
DTSTART:20160101T000000
END:STANDARD
END:VTIMEZONE
BEGIN:VEVENT
DTSTART;VALUE=DATE:20161001
DTEND;VALUE=DATE:20161002
DTSTAMP:20260421T192953
CREATED:20160912T194436Z
LAST-MODIFIED:20160912T194436Z
UID:8091-1475280000-1475366399@www.ottawaparentingtimes.ca
SUMMARY:Inktense Workshop - October 1\, 2016
DESCRIPTION:Inktense Workshop \nCombine the intensity of ink with the translucence of a wash and traditional coloured pencil for an inktense work of art. Create beautiful paintings with vibrant colour as participants learn to work with the pencils in dry format or with a wet brush. Supplies provided. \nInstructor: Jan Salmon \nSat. 10 am-3 pm \nOct. 1 $103.50 \nBar code: 1064475 \n 
URL:https://www.ottawaparentingtimes.ca/event/inktense-workshop-october-1-2016/
END:VEVENT
END:VCALENDAR