BEGIN:VCALENDAR
VERSION:2.0
PRODID:-//Ottawa Parenting Times Magazine - ECPv5.1.6//NONSGML v1.0//EN
CALSCALE:GREGORIAN
METHOD:PUBLISH
X-WR-CALNAME:Ottawa Parenting Times Magazine
X-ORIGINAL-URL:https://www.ottawaparentingtimes.ca
X-WR-CALDESC:Events for Ottawa Parenting Times Magazine
BEGIN:VTIMEZONE
TZID:UTC
BEGIN:STANDARD
TZOFFSETFROM:+0000
TZOFFSETTO:+0000
TZNAME:UTC
DTSTART:20160101T000000
END:STANDARD
END:VTIMEZONE
BEGIN:VEVENT
DTSTART;VALUE=DATE:20161112
DTEND;VALUE=DATE:20161113
DTSTAMP:20260422T174353
CREATED:20160912T194619Z
LAST-MODIFIED:20160912T194633Z
UID:8093-1478908800-1478995199@www.ottawaparentingtimes.ca
SUMMARY:Intro to Abstract Painting Workshop - November 12\, 2016
DESCRIPTION:Intro to Abstract Painting  \nBe introduced to the world of abstract art. Explore the principles and elements of design starting by creating a variety of small sheets of collage paper using tissue\, paint and stamps. Finish by creating a 10” x 10” piece you can frame at home. Supplies provided. \nInstructor: Sue Ukkola \nSat. 10 am-4 pm \nNov. 12 $122 \nBar code: 1063320
URL:https://www.ottawaparentingtimes.ca/event/intro-abstract-painting-november-12-2016/
END:VEVENT
END:VCALENDAR