BEGIN:VCALENDAR
VERSION:2.0
PRODID:-//Ottawa Parenting Times Magazine - ECPv5.1.6//NONSGML v1.0//EN
CALSCALE:GREGORIAN
METHOD:PUBLISH
X-WR-CALNAME:Ottawa Parenting Times Magazine
X-ORIGINAL-URL:https://www.ottawaparentingtimes.ca
X-WR-CALDESC:Events for Ottawa Parenting Times Magazine
BEGIN:VTIMEZONE
TZID:UTC
BEGIN:STANDARD
TZOFFSETFROM:+0000
TZOFFSETTO:+0000
TZNAME:UTC
DTSTART:20220101T000000
END:STANDARD
END:VTIMEZONE
BEGIN:VEVENT
DTSTART;VALUE=DATE:20220609
DTEND;VALUE=DATE:20220620
DTSTAMP:20260422T085957
CREATED:20220606T160204Z
LAST-MODIFIED:20220606T160204Z
UID:13970-1654732800-1655683199@www.ottawaparentingtimes.ca
SUMMARY:Italian Week Ottawa: June 9 - 19\, 2022
DESCRIPTION:THERE ARE TWO TYPES OF PEOPLE IN THIS WORLD…\n\n\n\n\n\nITALIANS\, AND THOSE WHO WISH THEY WERE ITALIAN. EITHER WAY\, YOU’RE IN THE RIGHT PLACE. \nWe are so excited to see you in person again! \nTHE FESTIVAL RUNS JUNE 9 TO 19\, 2022\nItalian culture is traditionally gregarious and boisterous\, warm and generous\, proud and family-focused; but it is also modern and stylish\, appealing\, and magnetic. Our vision is to create shared experiences to remind Italian-Canadians who remain entrenched in their Italian culture to celebrate their heritage; to hold space for Italians who are new to Canada to feel at home; to give Italian-Canadians who are no longer culturally Italian a chance to express themselves; and to invite Canadians with no Italian heritage to experience what it means to be Italian for a moment. \n\n\n\n\n\nCHILDREN’S ART CONTEST\n\n\n\n\n\nOur art contest is back! Italian Week is inviting Ottawa’s children ages 4 to 10 to submit artwork related to the theme of “Celebrating Friendship”. Grab your art supplies and show us what friendship means to you!
URL:https://www.ottawaparentingtimes.ca/event/italian-week-ottawa-june-9-19-2022/
END:VEVENT
END:VCALENDAR