BEGIN:VCALENDAR
VERSION:2.0
PRODID:-//Ottawa Parenting Times Magazine - ECPv5.1.6//NONSGML v1.0//EN
CALSCALE:GREGORIAN
METHOD:PUBLISH
X-WR-CALNAME:Ottawa Parenting Times Magazine
X-ORIGINAL-URL:https://www.ottawaparentingtimes.ca
X-WR-CALDESC:Events for Ottawa Parenting Times Magazine
BEGIN:VTIMEZONE
TZID:UTC
BEGIN:STANDARD
TZOFFSETFROM:+0000
TZOFFSETTO:+0000
TZNAME:UTC
DTSTART:20150101T000000
END:STANDARD
END:VTIMEZONE
BEGIN:VEVENT
DTSTART;VALUE=DATE:20151114
DTEND;VALUE=DATE:20151115
DTSTAMP:20260421T234235
CREATED:20151112T231146Z
LAST-MODIFIED:20151112T231146Z
UID:6868-1447459200-1447545599@www.ottawaparentingtimes.ca
SUMMARY:Kanata Santa Claus Parade
DESCRIPTION:The Hazeldean Mall\, the Kanata-Hazeldean Lions Club and the Kanata Sports Club are proud to present the 25th Annual Kanata Santa Claus Parade on November 14\, 2015 starting at 10:00 am. \nParade Route: Starting from Terry Fox and Castlefrank\, then travelling along Castlefrank to Abbeyhill and then up Abbeyhill to the Hazeldean Mall. \nSafety flyer for our neighbours affected by the parade route: kh parade 2015
URL:https://www.ottawaparentingtimes.ca/event/kanata-santa-claus-parade/
LOCATION:Unnamed Venue\, Ottawa\, ON\, Canada
END:VEVENT
END:VCALENDAR