BEGIN:VCALENDAR
VERSION:2.0
PRODID:-//Ottawa Parenting Times Magazine - ECPv5.1.6//NONSGML v1.0//EN
CALSCALE:GREGORIAN
METHOD:PUBLISH
X-WR-CALNAME:Ottawa Parenting Times Magazine
X-ORIGINAL-URL:https://www.ottawaparentingtimes.ca
X-WR-CALDESC:Events for Ottawa Parenting Times Magazine
BEGIN:VTIMEZONE
TZID:UTC
BEGIN:STANDARD
TZOFFSETFROM:+0000
TZOFFSETTO:+0000
TZNAME:UTC
DTSTART:20190101T000000
END:STANDARD
END:VTIMEZONE
BEGIN:VEVENT
DTSTART;VALUE=DATE:20190427
DTEND;VALUE=DATE:20190428
DTSTAMP:20260422T064646
CREATED:20190225T014033Z
LAST-MODIFIED:20190225T014033Z
UID:12313-1556323200-1556409599@www.ottawaparentingtimes.ca
SUMMARY:Kick It\, a dance club for kids - April 27
DESCRIPTION:When: April 27\, 2 p.m.\nWhere: Meridian Theatres @ Centrepointe\, 101 Centrepointe Dr.\nWhat: Meridian Theatres @ Centrepointe transforms into a sell-out dance club that has kids moving to the music. Kids ages four to 10 can learn the slickest steps from the enthusiastic in-house street dance crew\, The Flava Factory. When they need a breather\, they can get creative in the Dynamix Photobooth – and take home a complimentary pic as a souvenir. Chaperones can join the kids on the dance floor or relax at the Big Kids Coffee Bar. Tickets are $7 and are available at the box office or by calling 613-580-2700.\nWebsite: www.meridiancentrepointe.com
URL:https://www.ottawaparentingtimes.ca/event/kick-it-a-dance-club-for-kids-april-27/
LOCATION:Centrepointe Theatres\, 101 Centrepointe Drive\, Ottawa\, Ontario\, Canada
END:VEVENT
END:VCALENDAR