BEGIN:VCALENDAR
VERSION:2.0
PRODID:-//Ottawa Parenting Times Magazine - ECPv5.1.6//NONSGML v1.0//EN
CALSCALE:GREGORIAN
METHOD:PUBLISH
X-WR-CALNAME:Ottawa Parenting Times Magazine
X-ORIGINAL-URL:https://www.ottawaparentingtimes.ca
X-WR-CALDESC:Events for Ottawa Parenting Times Magazine
BEGIN:VTIMEZONE
TZID:UTC
BEGIN:STANDARD
TZOFFSETFROM:+0000
TZOFFSETTO:+0000
TZNAME:UTC
DTSTART:20160101T000000
END:STANDARD
END:VTIMEZONE
BEGIN:VEVENT
DTSTART;VALUE=DATE:20160827
DTEND;VALUE=DATE:20160828
DTSTAMP:20260422T173850
CREATED:20160602T224322Z
LAST-MODIFIED:20160602T224322Z
UID:7598-1472256000-1472342399@www.ottawaparentingtimes.ca
SUMMARY:Kid's Day at NutriChem's St. Laurent Location!
DESCRIPTION:When: Saturday\, August 27\, 2016 from 10am-4pm \nWhat: Sales\, Samples\, Free Mini-Nutritional Consultations\, and much more!
URL:https://www.ottawaparentingtimes.ca/event/kids-day-nutrichems-st-laurent-location/
END:VEVENT
END:VCALENDAR