BEGIN:VCALENDAR
VERSION:2.0
PRODID:-//Ottawa Parenting Times Magazine - ECPv5.1.6//NONSGML v1.0//EN
CALSCALE:GREGORIAN
METHOD:PUBLISH
X-WR-CALNAME:Ottawa Parenting Times Magazine
X-ORIGINAL-URL:https://www.ottawaparentingtimes.ca
X-WR-CALDESC:Events for Ottawa Parenting Times Magazine
BEGIN:VTIMEZONE
TZID:UTC
BEGIN:STANDARD
TZOFFSETFROM:+0000
TZOFFSETTO:+0000
TZNAME:UTC
DTSTART:20170101T000000
END:STANDARD
END:VTIMEZONE
BEGIN:VEVENT
DTSTART;VALUE=DATE:20170321
DTEND;VALUE=DATE:20170405
DTSTAMP:20260422T135114
CREATED:20170203T032955Z
LAST-MODIFIED:20170203T032955Z
UID:8609-1490054400-1491350399@www.ottawaparentingtimes.ca
SUMMARY:Kids Have Strees Too
DESCRIPTION:Kids Have Stress Too \nLearn to identify signs of stress in your child and acquire stress management techniques which will last a lifetime.  \nDate: Tue Mar 21\, 2017 – Tue Apr 4\, 2017 » Every week on Tue  \nTimes: 6:30 pm – 8:30 pm  \nLocation: Centrepointe Early Childhood Resource Centre \n75 Hemmingwood Way\, Ottawa  K2G 5T6 \nProvided by: Centrepointe Early Childhood Resource Centre   www.centrepointechildcareservices.com\nFees: Free  \nContact: Lisa  613-225-4819 
URL:https://www.ottawaparentingtimes.ca/event/kids-have-strees-too/
END:VEVENT
END:VCALENDAR