BEGIN:VCALENDAR
VERSION:2.0
PRODID:-//Ottawa Parenting Times Magazine - ECPv5.1.6//NONSGML v1.0//EN
CALSCALE:GREGORIAN
METHOD:PUBLISH
X-WR-CALNAME:Ottawa Parenting Times Magazine
X-ORIGINAL-URL:https://www.ottawaparentingtimes.ca
X-WR-CALDESC:Events for Ottawa Parenting Times Magazine
BEGIN:VTIMEZONE
TZID:UTC
BEGIN:STANDARD
TZOFFSETFROM:+0000
TZOFFSETTO:+0000
TZNAME:UTC
DTSTART:20170101T000000
END:STANDARD
END:VTIMEZONE
BEGIN:VEVENT
DTSTART;VALUE=DATE:20170408
DTEND;VALUE=DATE:20170409
DTSTAMP:20260422T135230
CREATED:20160823T160825Z
LAST-MODIFIED:20160823T160825Z
UID:8006-1491609600-1491695999@www.ottawaparentingtimes.ca
SUMMARY:KinderNACO: We've Got the Beat - April 8\, 2017
DESCRIPTION:KinderNACO: We’ve Got the Beat\nPresented by: Shenkman Arts Centre Presents\n\nSaturday\, April 8\, 2017 at 4 pm \nFeaturing ensembles of the NAC Orchestra (KinderNACO). Drums\, cymbals\, timpani\, marimbas\, xylophones\, and an inexhaustible supply of “toys” – these are all part of the percussion section of the orchestra. From Bach to Rock\, let Bangers & Smash show you all the sounds and colours percussion instruments can produce! \nJonathan Wade  |  Percussion\nKenneth Simpson  |  Percussion \nPre-show Art Zone \nThe Shenkman Arts Centre invites you to join us before the show for activities which will engage children in a creative and fun journey. All you need to do is arrive an hour early to explore the Art Zone. \nImportant Information: \nArt Zone start time: 3 pm\nShow start time: 4 pm\nAdmission: Free (for performance ticket-holders)\nLocation:  Lower Lobby near Richcraft Theatre \nWe recommend you arrive a few minutes early to allow time to check your coats so young guests can fully enjoy each of the Art Zone activities before the show starts at 4 pm. \nAges: 4 and up\nLanguage: English \nTickets (all-in price):\nAdults: $20\nChild: $15\nFamily of four: $64 \nPlease note:\nAll patrons entering the theatre must have a ticket. At shows designated for children 6 years old or younger\, a complimentary ticket is available for babes-in-arms. Babes-in-arms are children 12 months of age or younger who will not occupy an additional seat. Parents/guardians must pick up these tickets in person from the Box Office on the day of the show only. \nVenue: Richcraft Theatre\nGenre: Family\, Musical/Theatre \n \nApril 08 at 4:00 pm
URL:https://www.ottawaparentingtimes.ca/event/kindernaco-weve-got-beat-april-8-2017/
END:VEVENT
END:VCALENDAR