BEGIN:VCALENDAR
VERSION:2.0
PRODID:-//Ottawa Parenting Times Magazine - ECPv5.1.6//NONSGML v1.0//EN
CALSCALE:GREGORIAN
METHOD:PUBLISH
X-WR-CALNAME:Ottawa Parenting Times Magazine
X-ORIGINAL-URL:https://www.ottawaparentingtimes.ca
X-WR-CALDESC:Events for Ottawa Parenting Times Magazine
BEGIN:VTIMEZONE
TZID:UTC
BEGIN:STANDARD
TZOFFSETFROM:+0000
TZOFFSETTO:+0000
TZNAME:UTC
DTSTART:20180101T000000
END:STANDARD
END:VTIMEZONE
BEGIN:VEVENT
DTSTART;VALUE=DATE:20180713
DTEND;VALUE=DATE:20180716
DTSTAMP:20260422T123503
CREATED:20180504T133751Z
LAST-MODIFIED:20180504T134034Z
UID:11714-1531440000-1531699199@www.ottawaparentingtimes.ca
SUMMARY:Kingdom of Osgoode Medieval Festival - July 13 - 15\, 2018
DESCRIPTION:Where: 5681 Osgoode Main St.\,\nOsgoode\nWhen: July 13 (Education Day) and\nJuly 14 to 15\nWhat: Take a trip back in time with the help of\nthe 11th annual Kingdom of Osgoode Medieval\nFestival. The event’s main attractions include\njousting by the knights of valour\, costumes\,\na knighting ceremony\, a Medieval market\,\nstorytelling\, a chance to meet the knights\nand food from the period. New for 2018 is a\ndulcimer player\, who will be spreading music\nthrough the king’s forest\, and a silent auction\,\nwhich will be held in support of the Ottawa\nRegional Cancer Foundation. To get $1 off your\nadmission\, bring a canned food item in support\nof the Osgoode Food Bank. This year\, the\nfestival will be easier to get to than ever\, free\nshuttle buses running on both the Saturday\nand the Sunday from Greenboro Station (near\nSouth Keys) and from College Square (in front\nof the BMO) to the festival site and back.\nWebsite: www.osgoodemedievalfestival.com
URL:https://www.ottawaparentingtimes.ca/event/kingdom-of-osgoode-medieval-festival-july-13-15-2018/
LOCATION:Kingdom of Osgoode\, 5681 Osgoode Main St.\, Osgoode\, Ontario\, K0A 2W0
END:VEVENT
END:VCALENDAR